BEGIN:VCALENDAR
VERSION:2.0
PRODID:-//eventon.com NONSGML v1.0//EN
CALSCALE:GREGORIAN
METHOD:PUBLISH
BEGIN:VEVENT
UID:69eb889c956dc
DTSTAMP:20260424T151332Z
DTSTART:20210710T170000Z
DTEND:20210710T180000Z
LOCATION:Salsta Slott Lena Salsta 63\,  Vattholma
SUMMARY:UruppfÃ¶rande Alla tiders musik
DESCRIPTION:LÃ¶rdag 10 juli uruppfÃ¶rande Alla tiders musik Salsta slott gÃ
 ¥r under epitetet Alla tiders slott\,  utifrÃ¥n att slottet rymmer salar oc
 h rum frÃ¥n olika tidsepoker\,  frÃ¥n 1600-tal till 1900-tal\,  men ocksÃ¥ 
 ett medeltida kÃ¤llarvalv. Slottets salar och rum har nu ocksÃ¥ klÃ¤tts i t
 oner\,  nyskriven musik men med tydliga spÃ¥r[..]\nhttps://astraken.se/even
 ts/uruppforande-alla-tiders-musik/
URL:https://astraken.se/events/uruppforande-alla-tiders-musik/
END:VEVENT
END:VCALENDAR