BEGIN:VCALENDAR
VERSION:2.0
PRODID:-//eventon.com NONSGML v1.0//EN
CALSCALE:GREGORIAN
METHOD:PUBLISH
BEGIN:VEVENT
UID:69eb88d89f8ce
DTSTAMP:20260424T151432Z
DTSTART:20210606T160000Z
DTEND:20210606T170000Z
LOCATION:Salsta Slott Lena Salsta 63\,  Vattholma
SUMMARY:TRE RIKSSPELMÄN spelar traditionella upplandslåtar med schwung
DESCRIPTION:TRE RIKSSPELMÄN spelar traditionella upplandslåtar med schwun
 g. Annika Ekstav\,  Anders Mattsson och Leif Alpsjö är betydande traditio
 nsbärare av den norduppländska folkmusiken. Kännetecknande är att de sp
 elar dansbart. Då behöver tempon och spänst vara medryckande för att ly
 fta dansarnas fötter. Mellan låtarna berättar de om låtar\,  spelmän o
 ch traditioner. Annika\,  Anders[..]\nhttps://astraken.se/events/tre-rikssp
 elman-spelar-traditionella-upplandslatar-med-schwung/
URL:https://astraken.se/events/tre-riksspelman-spelar-traditionella-upplandslatar-med-schwung/
END:VEVENT
END:VCALENDAR