BEGIN:VCALENDAR
VERSION:2.0
PRODID:-//eventon.com NONSGML v1.0//EN
CALSCALE:GREGORIAN
METHOD:PUBLISH
BEGIN:VEVENT
UID:69eb86758c9ce
DTSTAMP:20260424T150421Z
DTSTART:20210606T080000Z
DTEND:20210606T140000Z
LOCATION:Salsta Slott Lena Salsta 63\,  Vattholma
SUMMARY:Nationaldagsfirande
DESCRIPTION:Söndag 6 juni Nationaldagsfirande på Salsta slott  Kl. 11 Fr
 iluftsgudstjänst Slottskaféet öppet 12-16\,  Gås-Andersbygdens spelmans
 lag underhåller med folkmusik i slottsparken klockan 14 och 15. Öppet slo
 tt 12-16. Bese slottets salar på egen hand. Ingen förbokning behövs. kl.
  16.30 Föredrag ”Och näst kungen är herren på Salsta mäktigast i lan
 det.” En[..]\nhttps://astraken.se/events/nationaldagsfirande/
URL:https://astraken.se/events/nationaldagsfirande/
END:VEVENT
END:VCALENDAR