BEGIN:VCALENDAR
VERSION:2.0
PRODID:-//eventon.com NONSGML v1.0//EN
CALSCALE:GREGORIAN
METHOD:PUBLISH
BEGIN:VEVENT
UID:69eb88d3cb37c
DTSTAMP:20260424T151427Z
DTSTART:20210522T110000Z
DTEND:20210522T120000Z
LOCATION:Salsta Slott Lena Salsta 63\,  Vattholma
SUMMARY:Musik på Salsta slott
DESCRIPTION:Musik på Salsta slott\,  Stockholm barock spelar musik av Mont
 eclair\,  Rebel\,  och Telemann mm. Två konserter ges\,  kl.13 respektive 
 kl.15. Konserterna genomförs i samverkan med Studieförbundet Vuxenskolan.
  Biljettpris 200 kronor. Biljetter bokas på info@salsta-slott.se Stockholm
  barock är en grupp musiker som träffats på Tidig musik-utbildningen vid
  Kungliga Musikhögskolan i Stockholm.[..]\nhttps://astraken.se/events/musi
 k-pa-salsta-slott/
URL:https://astraken.se/events/musik-pa-salsta-slott/
END:VEVENT
END:VCALENDAR