BEGIN:VCALENDAR
VERSION:2.0
PRODID:-//eventon.com NONSGML v1.0//EN
CALSCALE:GREGORIAN
METHOD:PUBLISH
BEGIN:VEVENT
UID:69eb9cc8c1537
DTSTAMP:20260424T163936Z
DTSTART:20210822T080000Z
DTEND:20210822T130000Z
LOCATION:
SUMMARY:Nortuna Skördedag
DESCRIPTION:Nortuna Skördedag med försäljning av gårdens produkter frå
 n köksträdgård\,  bärbuskar och örtagård\,  visning av Ostindiska mus
 éet (kl 13)\,  Kafé Sparrman öppet för lunch och fika.\nhttps://astrake
 n.se/events/nortuna-skordedag/
URL:https://astraken.se/events/nortuna-skordedag/
END:VEVENT
END:VCALENDAR