BEGIN:VCALENDAR
VERSION:2.0
PRODID:-//eventon.com NONSGML v1.0//EN
CALSCALE:GREGORIAN
METHOD:PUBLISH
BEGIN:VEVENT
UID:69eb85fa7ded2
DTSTAMP:20260424T150218Z
DTSTART:20210718T075400Z
DTEND:20210718T140000Z
LOCATION:
SUMMARY:Nortuna Trädgårdsdag
DESCRIPTION:Nortuna Trädgårdsdag med öppen trädgård\,  försäljning a
 v trädgårdslitteratur och plantor uppdragna i orangeriet\,  visning av Os
 tindiska muséet (kl 13)\,  Kafé Sparrman öppet för lunch och fika\nhttp
 s://astraken.se/events/nortuna-tradgardsdag/
URL:https://astraken.se/events/nortuna-tradgardsdag/
END:VEVENT
END:VCALENDAR