BEGIN:VCALENDAR
VERSION:2.0
PRODID:-//eventon.com NONSGML v1.0//EN
CALSCALE:GREGORIAN
METHOD:PUBLISH
BEGIN:VEVENT
UID:69eb835fa8e8e
DTSTAMP:20260424T145111Z
DTSTART:20210711T080000Z
DTEND:20210711T130000Z
LOCATION:
SUMMARY:Anders Sparrman-dagen
DESCRIPTION:Anders Sparrman-dagen till minne av LinnÃ©s mest vittbereste lÃ
 ¤rjunge med temavisning av Ostindiska musÃ©et i Sparrmans fotspÃ¥r (kl 13)\
 ,  och prova KafÃ© Sparrmans smarriga Sparrmanbakelse dagen till Ã¤ra!\nhtt
 ps://astraken.se/events/anders-sparrman-dagen/
URL:https://astraken.se/events/anders-sparrman-dagen/
END:VEVENT
END:VCALENDAR