BEGIN:VCALENDAR
VERSION:2.0
PRODID:-//eventon.com NONSGML v1.0//EN
CALSCALE:GREGORIAN
METHOD:PUBLISH
BEGIN:VEVENT
UID:69eb65ee70363
DTSTAMP:20260424T124534Z
DTSTART:20260516T110000Z
DTEND:20260516T140000Z
LOCATION:
SUMMARY:Vattholma marknad
DESCRIPTION:Liksom tidigare år arrangerar Vattholma i Samverkan en marknad
  i anslutning till Tempobutiken och biblioteket. Årets marknad är lördag
 en den 16 maj mellan klockan 11 och 14. Information om deltagande och behov
  av utrymme behöver vi senast den 5 maj. Kontaktperson är Åke Clason. a
 keclason1@gmail.com Vi ser gärna att det blir[..]\nhttps://astraken.se/eve
 nts/vattholma-marknad/
URL:https://astraken.se/events/vattholma-marknad/
END:VEVENT
END:VCALENDAR