BEGIN:VCALENDAR
VERSION:2.0
PRODID:-//eventon.com NONSGML v1.0//EN
CALSCALE:GREGORIAN
METHOD:PUBLISH
BEGIN:VEVENT
UID:69eb843e125a1
DTSTAMP:20260424T145454Z
DTSTART:20260329T110000Z
DTEND:20260329T160000Z
LOCATION:
SUMMARY:Våffelcafé
DESCRIPTION:Våffelcafé\,  mat- &amp; sötvåfflor och sillabröd.\nhttps:
 //astraken.se/events/vaffelcafe/
URL:https://astraken.se/events/vaffelcafe/
END:VEVENT
END:VCALENDAR