BEGIN:VCALENDAR
VERSION:2.0
PRODID:-//eventon.com NONSGML v1.0//EN
CALSCALE:GREGORIAN
METHOD:PUBLISH
BEGIN:VEVENT
UID:69eb9f0696395
DTSTAMP:20260424T164910Z
DTSTART:20260214
DTEND:20260215
LOCATION:
SUMMARY:Alla hjärtans dag med afternoon tea.
DESCRIPTION:Alla hjärtans dag är ett fint tillfälle att stanna upp en st
 und och göra något omtänksamt tillsammans. På Salsta slott firar vi dag
 en med ett afternoon tea i kärlekens tecken – skapat för att avnjutas l
 ångsamt\,  i vacker miljö. Vi dukar upp vårt afternoon tea med nybakade 
 scones\,  goda tillbehör\, [..]\nhttps://astraken.se/events/alla-hjartans-
 dag-med-afternoon-tea/
URL:https://astraken.se/events/alla-hjartans-dag-med-afternoon-tea/
END:VEVENT
END:VCALENDAR