BEGIN:VCALENDAR
VERSION:2.0
PRODID:-//eventon.com NONSGML v1.0//EN
CALSCALE:GREGORIAN
METHOD:PUBLISH
BEGIN:VEVENT
UID:69eb87088dfd4
DTSTAMP:20260424T150648Z
DTSTART:20260301T093000Z
DTEND:20260301T163000Z
LOCATION:
SUMMARY:HELDAGSKURS I BRÖDBAKNING
DESCRIPTION:Denna kurs är för dig som: Vill lära dig baka med surdeg men
  vet inte i vilken ände du ska börja Har provat några gånger men result
 atet har blivit platta bröd Vill friska upp dina kunskaper i brödbakning 
 och testa att baka med äldre sorters spannmål. Vi kommer att baka[..]\nht
 tps://astraken.se/events/heldagskurs-i-brodbakning/
URL:https://astraken.se/events/heldagskurs-i-brodbakning/
END:VEVENT
END:VCALENDAR