BEGIN:VCALENDAR
VERSION:2.0
PRODID:-//eventon.com NONSGML v1.0//EN
CALSCALE:GREGORIAN
METHOD:PUBLISH
BEGIN:VEVENT
UID:69ebacf7a44cb
DTSTAMP:20260424T174839Z
DTSTART:20260215
DTEND:20260216
LOCATION:
SUMMARY:Semmelcafé
DESCRIPTION:Semmelcafé\nhttps://astraken.se/events/semmelcafe-2/
URL:https://astraken.se/events/semmelcafe-2/
END:VEVENT
END:VCALENDAR