BEGIN:VCALENDAR
VERSION:2.0
PRODID:-//eventon.com NONSGML v1.0//EN
CALSCALE:GREGORIAN
METHOD:PUBLISH
BEGIN:VEVENT
UID:69eb65aacdc29
DTSTAMP:20260424T124426Z
DTSTART:20260523
DTEND:20260524
LOCATION:
SUMMARY:Drop-in bröllop
DESCRIPTION:För den som drömt om ett slottsbröllop\,  men vill slippa st
 åhej med förberedelser\,  ges en gyllene chans till ett minne för livet.
  Du ordnar partner och ansöker om hindersprövning. Vi ordnar allt annat
  – vigselförrättare (borgerlig eller kyrklig)\,  ceremoni med musik\,  
 bröllopstårta\,  fotografering… Upplägget är att bröllopsceremonien 
 äger rum i Slottskapellet\,  Blå[..]\nhttps://astraken.se/events/drop-in-
 brollop-3/
URL:https://astraken.se/events/drop-in-brollop-3/
END:VEVENT
END:VCALENDAR