BEGIN:VCALENDAR
VERSION:2.0
PRODID:-//eventon.com NONSGML v1.0//EN
CALSCALE:GREGORIAN
METHOD:PUBLISH
BEGIN:VEVENT
UID:69eb649e4fb84
DTSTAMP:20260424T123958Z
DTSTART:20260502
DTEND:20260503
LOCATION:
SUMMARY:Art Castle Tour
DESCRIPTION:Salsta slott är 2/5-10/5 värd för Art Castle Tour. Nedanstå
 ende bilder från utställningen i Albrechtsberg hösten 2025. Medverkande 
 konstnärer Amalia Årfelt (’Animals’) Lars Svennersten (’Cows’) Pe
 ter U. Wiklund (’Haiku’) Dag E Malmberg (’Landscape’) Peter Johanss
 on (’Sausage’) Karin Yosok Hyosook Park (’Homonyms’) Entré 80kr. F
 örboka biljett här.\nhttps://astraken.se/events/art-castle-tour/
URL:https://astraken.se/events/art-castle-tour/
END:VEVENT
END:VCALENDAR