BEGIN:VCALENDAR
VERSION:2.0
PRODID:-//eventon.com NONSGML v1.0//EN
CALSCALE:GREGORIAN
METHOD:PUBLISH
BEGIN:VEVENT
UID:69ec9c12790a1
DTSTAMP:20260425T104850Z
DTSTART:20260425T180000Z
DTEND:20260425T220000Z
LOCATION:
SUMMARY:Historisk middag
DESCRIPTION:kl. 18 Historisk middag  Boka plats här.\nhttps://astraken.
 se/events/historisk-middag/
URL:https://astraken.se/events/historisk-middag/
END:VEVENT
END:VCALENDAR