BEGIN:VCALENDAR
VERSION:2.0
PRODID:-//eventon.com NONSGML v1.0//EN
CALSCALE:GREGORIAN
METHOD:PUBLISH
BEGIN:VEVENT
UID:69eb844a10396
DTSTAMP:20260424T145506Z
DTSTART:20260131T190000Z
DTEND:20260131T210000Z
LOCATION:
SUMMARY:Björnkrönikan
DESCRIPTION:kl.19.00 Björn Ende framför Björnkrönikan. Biljettpris 20
 0kr. Boka biljett här.\nhttps://astraken.se/events/bjornkronikan/
URL:https://astraken.se/events/bjornkronikan/
END:VEVENT
END:VCALENDAR