BEGIN:VCALENDAR
VERSION:2.0
PRODID:-//eventon.com NONSGML v1.0//EN
CALSCALE:GREGORIAN
METHOD:PUBLISH
BEGIN:VEVENT
UID:69eb84402807e
DTSTAMP:20260424T145456Z
DTSTART:20251207T090000Z
DTEND:20251207T140000Z
LOCATION:
SUMMARY:Julmarknad
DESCRIPTION:Snart är det jul igen&#8230; och dags för&#8230; Wattholma Ku
 ltur- &amp; Hembygdsförenings nittonde JULMARKNAD vid nya stallet vid Sals
 ta slott. Varmt välkommen den 7 dec kl 10-15. Arrangeras i samarbete med V
 IS (Vattholma i Samverkan)\nhttps://astraken.se/events/julmarknad-4/
URL:https://astraken.se/events/julmarknad-4/
END:VEVENT
END:VCALENDAR