BEGIN:VCALENDAR
VERSION:2.0
PRODID:-//eventon.com NONSGML v1.0//EN
CALSCALE:GREGORIAN
METHOD:PUBLISH
BEGIN:VEVENT
UID:69eb9e91c4c7c
DTSTAMP:20260424T164713Z
DTSTART:20251122T150000Z
DTEND:20251122T225000Z
LOCATION:
SUMMARY:Musik på Salsta - Björn Ende
DESCRIPTION:kl.16 Musik på Salsta slott\,  Björn Ende Sveriges historia
  och andra musikaliska äventyr Biljettpris 200kr. Boka biljett här.\nhtt
 ps://astraken.se/events/musik-pa-salsta-bjorn-ende-2/
URL:https://astraken.se/events/musik-pa-salsta-bjorn-ende-2/
END:VEVENT
END:VCALENDAR