BEGIN:VCALENDAR
VERSION:2.0
PRODID:-//eventon.com NONSGML v1.0//EN
CALSCALE:GREGORIAN
METHOD:PUBLISH
BEGIN:VEVENT
UID:69ebad5fb41d3
DTSTAMP:20260424T175023Z
DTSTART:20251206
DTEND:20251207
LOCATION:
SUMMARY:Julbord
DESCRIPTION:JULBORD PÅ SALSTA SLOTT Stämningsfullt – smakrikt – klass
 iskt Upplev en magisk kväll på slottet med ett klassiskt\,  läckert julb
 ord. Njut av traditionella rätter och atmosfären av historia och traditio
 n. Ge dig själv\,  dina anställda eller dina nära och kära en extraordi
 när julupplevelse på ett slott som andas historia och[..]\nhttps://astrak
 en.se/events/julbord/
URL:https://astraken.se/events/julbord/
END:VEVENT
END:VCALENDAR