BEGIN:VCALENDAR
VERSION:2.0
PRODID:-//eventon.com NONSGML v1.0//EN
CALSCALE:GREGORIAN
METHOD:PUBLISH
BEGIN:VEVENT
UID:69eb8446e2cfd
DTSTAMP:20260424T145502Z
DTSTART:20251115
DTEND:20251116
LOCATION:
SUMMARY:Vinprovning
DESCRIPTION:Det vi provar oss igenom Ã¤r olika snittar och handtillverkade 
 chokladpraliner tillsammans med olika spÃ¤nnande viner frÃ¥n mindre\,  helt
  suverÃ¤na producenter. Vi bjuder ocksÃ¥ pÃ¥ bra vintips. VÃ¤lkomna till en
  mysig kvÃ¤ll pÃ¥ Salsta slott. Vill du ha en privat vinprovning? Ta med mÃ
 ¶hippan\,  svensexan\,  fÃ¶retaget\,  fÃ¶reningen eller kompisgÃ¤nget pÃ¥[.
 .]\nhttps://astraken.se/events/vinprovning/
URL:https://astraken.se/events/vinprovning/
END:VEVENT
END:VCALENDAR