BEGIN:VCALENDAR
VERSION:2.0
PRODID:-//eventon.com NONSGML v1.0//EN
CALSCALE:GREGORIAN
METHOD:PUBLISH
BEGIN:VEVENT
UID:69eb9ff014a98
DTSTAMP:20260424T165304Z
DTSTART:20251022
DTEND:20251023
LOCATION:
SUMMARY:Middag med andevärlden
DESCRIPTION:Middag med andevärlden Vi får vi besök av medierna MariaTher
 ese och Uffe som förmedlar budskap från andevärlden\,  healing och vägl
 edning via kort för den som önskar. Under middagen kommer två spirituali
 stiska medier\,  MariaTherese och Uffe från Mithera Development Spirituali
 stiska Center\,  att röra sig bland gästerna och förmedla budskap från 
 andevärlden.[..]\nhttps://astraken.se/events/middag-med-andevarlden/
URL:https://astraken.se/events/middag-med-andevarlden/
END:VEVENT
END:VCALENDAR