BEGIN:VCALENDAR
VERSION:2.0
PRODID:-//eventon.com NONSGML v1.0//EN
CALSCALE:GREGORIAN
METHOD:PUBLISH
BEGIN:VEVENT
UID:69eb896484c63
DTSTAMP:20260424T151652Z
DTSTART:20250927
DTEND:20250928
LOCATION:
SUMMARY:Middag med mordgåta
DESCRIPTION:kl.18 Middag med mordgåta. Pris 790kr/person. Boka plats här
 . Mer info: https://salsta-slott.se/middag-med-mordgata/\nhttps://astraken.
 se/events/middag-med-mordgata-4/
URL:https://astraken.se/events/middag-med-mordgata-4/
END:VEVENT
END:VCALENDAR