BEGIN:VCALENDAR
VERSION:2.0
PRODID:-//eventon.com NONSGML v1.0//EN
CALSCALE:GREGORIAN
METHOD:PUBLISH
BEGIN:VEVENT
UID:69eb8441f1e2b
DTSTAMP:20260424T145457Z
DTSTART:20250919T180000Z
DTEND:20250919T215000Z
LOCATION:
SUMMARY:Spökvandring
DESCRIPTION:Fredag 19 september kl.20 Spökvandring. Boka plats här.\nh
 ttps://astraken.se/events/spokvandring-5/
URL:https://astraken.se/events/spokvandring-5/
END:VEVENT
END:VCALENDAR