BEGIN:VCALENDAR
VERSION:2.0
PRODID:-//eventon.com NONSGML v1.0//EN
CALSCALE:GREGORIAN
METHOD:PUBLISH
BEGIN:VEVENT
UID:69eb9e8a1a159
DTSTAMP:20260424T164706Z
DTSTART:20251011T090000Z
DTEND:20251011T130000Z
LOCATION:
SUMMARY:Bakluckeloppis
DESCRIPTION:HÃ¶sten Ã¤r hÃ¤r och vad passar bÃ¤ttre Ã¤n att fynda bland spÃ
 ¤nnande prylar i slottsmiljÃ¶? Den 11 oktober dukar vi upp fÃ¶r bakluckelop
 pis pÃ¥ Salsta slott\,  en dag full av fynd\,  Ã¥terbruk och gemenskap. FÃ¶
 r dig som vill sÃ¤lja: Har du garderober och fÃ¶rrÃ¥d som behÃ¶ver rensas? 
 Packa bilen och[..]\nhttps://astraken.se/events/bakluckeloppis/
URL:https://astraken.se/events/bakluckeloppis/
END:VEVENT
END:VCALENDAR