BEGIN:VCALENDAR
VERSION:2.0
PRODID:-//eventon.com NONSGML v1.0//EN
CALSCALE:GREGORIAN
METHOD:PUBLISH
BEGIN:VEVENT
UID:69eb9be5e02ad
DTSTAMP:20260424T163549Z
DTSTART:20251001
DTEND:20251002
LOCATION:
SUMMARY:Pizzakväll
DESCRIPTION:Vi öppnar upp slottets portar för en avslappnad kväll med go
 d mat\,  härlig stämning och en pizzameny skapad för att njutas i gott s
 ällskap. Oavsett om du vill avrunda arbetsdagen med en after work\,  dela 
 en flaska vin med vänner eller unna dig en av våra stenugnsbakade pizzor\
 ,  finns det[..]\nhttps://astraken.se/events/pizzakvall/
URL:https://astraken.se/events/pizzakvall/
END:VEVENT
END:VCALENDAR