BEGIN:VCALENDAR
VERSION:2.0
PRODID:-//eventon.com NONSGML v1.0//EN
CALSCALE:GREGORIAN
METHOD:PUBLISH
BEGIN:VEVENT
UID:69eb844423716
DTSTAMP:20260424T145500Z
DTSTART:20250907T090000Z
DTEND:20250907T140000Z
LOCATION:Salsta Slott Lena Salsta 63\,  Vattholma
SUMMARY:Skördefest & Höstmarknad
DESCRIPTION:Upplev en traditionell skördemarknad i historisk slottsmiljö.
  Dagen bjuder på försäljning av lokala produkter och mathantverk\,  samt
  aktiviteter för alla åldrar. kl.11 Friluftsgudstjänst. Regi Lena förs
 amling kl.13 Guidad rundvandring Biljettpris 120kr. Boka biljett här kl.
 16 Musik på Salsta slott Uppsala vokalensemble. Biljettpris 200kr. Boka 
 biljett här. Vernissage av utställningarna Salon des Refusés\,  Sakern
 as tillstånd och Occhi D’Amore.[..]\nhttps://astraken.se/events/skordefe
 st-hostmarknad-2/
URL:https://astraken.se/events/skordefest-hostmarknad-2/
END:VEVENT
END:VCALENDAR