BEGIN:VCALENDAR
VERSION:2.0
PRODID:-//eventon.com NONSGML v1.0//EN
CALSCALE:GREGORIAN
METHOD:PUBLISH
BEGIN:VEVENT
UID:69eb8971ebde3
DTSTAMP:20260424T151705Z
DTSTART:20251004T140000Z
DTEND:20251004T160000Z
LOCATION:
SUMMARY:Musik pÃ¥ Salsta slott - VÃ¤sen
DESCRIPTION:kl.16Â Musik pÃ¥ Salsta slott\, Â VÃ¤senÂ Biljettpris 200kr. Bo
 ka biljettÂ hÃ¤r. VÃ¤sen\, Â Mikael Marin och Olov JohanssonÂ harÂ underÂ Ã
 ¶verÂ 40Â Ã¥rs intensivt samspel och turnerandeÂ renodlat sitt sound ochÂ s
 inÂ sceniska nÃ¤rvaroÂ till den grad attÂ deÂ i dag Ã¤r unikaÂ i sitt slag.
  Med sitt lekfulla och fullÃ¤ndade samspel verkar de trotsa fysikens lagarÂ
  iÂ nÃ¥got som fÃ¶refaller vara en telepatisk kommunikation. Musiken Ã¤r in
 tensiv\,  dynamiskÂ och fylld[..]\nhttps://astraken.se/events/musik-pa-sals
 ta-slott-vasen/
URL:https://astraken.se/events/musik-pa-salsta-slott-vasen/
END:VEVENT
END:VCALENDAR