BEGIN:VCALENDAR
VERSION:2.0
PRODID:-//eventon.com NONSGML v1.0//EN
CALSCALE:GREGORIAN
METHOD:PUBLISH
BEGIN:VEVENT
UID:69eb9e8dd8424
DTSTAMP:20260424T164709Z
DTSTART:20250927T080000Z
DTEND:20250927T120000Z
LOCATION:
SUMMARY:Plöjning med veterantraktorer
DESCRIPTION:Vi plöjer med våra veteraner från klockan 10.00 till 14.00 p
 å lördagen den 27 september. Har du ett eget ekipage och vill vara med oc
 h plöja? Starta upp och kom! Kaffe\,  korv och hamburgare finns. Inget int
 räde. Välkomna! Mer info: https://vikstatraktor.se/event/#plojning\nhttps
 ://astraken.se/events/plojning-med-veterantraktorer-2/
URL:https://astraken.se/events/plojning-med-veterantraktorer-2/
END:VEVENT
END:VCALENDAR