BEGIN:VCALENDAR
VERSION:2.0
PRODID:-//eventon.com NONSGML v1.0//EN
CALSCALE:GREGORIAN
METHOD:PUBLISH
BEGIN:VEVENT
UID:69eb870c208b8
DTSTAMP:20260424T150652Z
DTSTART:20250620
DTEND:20250621
LOCATION:
SUMMARY:Midsommar vid Trekanten
DESCRIPTION:Det traditionella midsommarfirandet vid Trekanten i Vattholma. 
 Ett måste för alla som vill fira midsommar. Midsommarafton Dans runt mids
 ommarkransen\,  Tensta spelmans och folkdanslag\,  Highwater\,  Larz Kriste
 rz\,  The Roche Pack Midsommardagen Dragkamp\,  Tobbe Trollkarl\,  Milltown
  Saints\,  RockTorparn\,  Andy and The Rockets\,  JLT\,  Riverport Riot Des
 sutom fotouställning av Mikael Lindström\,  lottförsäljning\,  kafé\, 
 [..]\nhttps://astraken.se/events/midsommar-vid-trekanten/
URL:https://astraken.se/events/midsommar-vid-trekanten/
END:VEVENT
END:VCALENDAR