BEGIN:VCALENDAR
VERSION:2.0
PRODID:-//eventon.com NONSGML v1.0//EN
CALSCALE:GREGORIAN
METHOD:PUBLISH
BEGIN:VEVENT
UID:69eb896d402cf
DTSTAMP:20260424T151701Z
DTSTART:20250830T090000Z
DTEND:20250830T130000Z
LOCATION:
SUMMARY:Storvretadagen 2025
DESCRIPTION:Mer info: https://storvreta.info/attgora/evenemang/evenemangsin
 fo/storvretadagen-2025/\nhttps://astraken.se/events/storvretadagen-2025/
URL:https://astraken.se/events/storvretadagen-2025/
END:VEVENT
END:VCALENDAR