BEGIN:VCALENDAR
VERSION:2.0
PRODID:-//eventon.com NONSGML v1.0//EN
CALSCALE:GREGORIAN
METHOD:PUBLISH
BEGIN:VEVENT
UID:69eb9fb9c976f
DTSTAMP:20260424T165209Z
DTSTART:20250816
DTEND:20250817
LOCATION:
SUMMARY:Historiska dagar på ulva – vendeltid\,  vikingatid och medeltid
DESCRIPTION:Den 16-17 augusti 2025\,  arrangerar Ulva hantverksförening 
 Historiska familjedagar i Ulva! Följ med på en tidsresa från vendel- oc
 h vikingatid till medeltid. Ulls Vikingar och Vendthjod i samarbete med and
 ra föreningar slår läger och erbjuder prova-på aktiviteter och uppvisni
 ngar. Du kan pyssla i vikingaverkstan\,  prova på att ro en vikingabåt\, 
  träffa en riddare[..]\nhttps://astraken.se/events/historiska-dagar-pa-ulv
 a-vendeltid-vikingatid-och-medeltid/
URL:https://astraken.se/events/historiska-dagar-pa-ulva-vendeltid-vikingatid-och-medeltid/
END:VEVENT
END:VCALENDAR