BEGIN:VCALENDAR
VERSION:2.0
PRODID:-//eventon.com NONSGML v1.0//EN
CALSCALE:GREGORIAN
METHOD:PUBLISH
BEGIN:VEVENT
UID:69eb8420051ea
DTSTAMP:20260424T145424Z
DTSTART:20250529
DTEND:20250530
LOCATION:
SUMMARY:Ulva vårmarknad
DESCRIPTION:Välkomna på Ulva Vårmarknad 2025 under kristi himmelsfärd: 
 Datum: 29 -31 maj Tid: kl. 10-16 Länge har vi längtat efter att kunna nju
 ta av den härliga vårsolen\,  entusiastiskt fågelkvitter och att få str
 osa runt bland en rik samling av hantverksstånd under Ulva Vårmarknad. De
 tta år firar vi grönskans återkomst med[..]\nhttps://astraken.se/events/
 ulva-varmarknad/
URL:https://astraken.se/events/ulva-varmarknad/
END:VEVENT
END:VCALENDAR