BEGIN:VCALENDAR
VERSION:2.0
PRODID:-//eventon.com NONSGML v1.0//EN
CALSCALE:GREGORIAN
METHOD:PUBLISH
BEGIN:VEVENT
UID:69ebb610ba3ef
DTSTAMP:20260424T182728Z
DTSTART:20250614
DTEND:20250615
LOCATION:
SUMMARY:Gille- & Nyckelharpsstämman 2025
DESCRIPTION:Mer info: https://gilleochnyckelharpstamman.se/\nhttps://astrak
 en.se/events/gille-nyckelharpsstamman-2025/
URL:https://astraken.se/events/gille-nyckelharpsstamman-2025/
END:VEVENT
END:VCALENDAR