BEGIN:VCALENDAR
VERSION:2.0
PRODID:-//eventon.com NONSGML v1.0//EN
CALSCALE:GREGORIAN
METHOD:PUBLISH
BEGIN:VEVENT
UID:69eb88b06197f
DTSTAMP:20260424T151352Z
DTSTART:20250825T160000Z
DTEND:20250825T180000Z
LOCATION:
SUMMARY:Mycket väsen för ingenting - utomhus teater
DESCRIPTION:Shakespeare’s klassiska komedi som utomhusteater i slottspark
 en. Boka biljett här. TNT Theatre describes itself as an internationally 
 renowned fully professional touring theatre company that has been performin
 g musical theatre plays in English\,  French\,  and Spanish throughout the 
 world for over four decades – from China and Japan to Australia and Singa
 pore\, [..]\nhttps://astraken.se/events/mycket-vasen-for-ingenting-utomhus-
 teater/
URL:https://astraken.se/events/mycket-vasen-for-ingenting-utomhus-teater/
END:VEVENT
END:VCALENDAR