BEGIN:VCALENDAR
VERSION:2.0
PRODID:-//eventon.com NONSGML v1.0//EN
CALSCALE:GREGORIAN
METHOD:PUBLISH
BEGIN:VEVENT
UID:69eba2588a370
DTSTAMP:20260424T170320Z
DTSTART:20250816T140000Z
DTEND:20250816T160000Z
LOCATION:
SUMMARY:Musik på Salsta - Björn Ende
DESCRIPTION:Musik på Salsta slott Björn Ende framför Sveriges histori
 a och andra av sina briljanta sånger. Biljettpris 200kr. Boka biljett hä
 r.\nhttps://astraken.se/events/musik-pa-salsta-bjorn-ende/
URL:https://astraken.se/events/musik-pa-salsta-bjorn-ende/
END:VEVENT
END:VCALENDAR