BEGIN:VCALENDAR
VERSION:2.0
PRODID:-//eventon.com NONSGML v1.0//EN
CALSCALE:GREGORIAN
METHOD:PUBLISH
BEGIN:VEVENT
UID:69eb8908b5587
DTSTAMP:20260424T151520Z
DTSTART:20250628T133000Z
DTEND:20250628T150000Z
LOCATION:
SUMMARY:Musik på Salsta - Matti Andersson
DESCRIPTION:Matti Andersson\,  dragspel\,  framför musik från sin CD ”A
 ldrig ensam”\,  solomusik\,  tillsammans med Johan Andersson\,  klarinett
 \,  och tillsammans med Micke Östergren\,  munspel och dikter. Under dagen
  visas också delar av utställningen De osynliga på Salsta slott. Innan k
 onserten severas sima och kanapéer. Biljetter bokas här. Pris för mat o
 ch konsert är[..]\nhttps://astraken.se/events/musik-pa-salsta-matti-anders
 son/
URL:https://astraken.se/events/musik-pa-salsta-matti-andersson/
END:VEVENT
END:VCALENDAR