BEGIN:VCALENDAR
VERSION:2.0
PRODID:-//eventon.com NONSGML v1.0//EN
CALSCALE:GREGORIAN
METHOD:PUBLISH
BEGIN:VEVENT
UID:69eb83d485d41
DTSTAMP:20260424T145308Z
DTSTART:20250524
DTEND:20250525
LOCATION:
SUMMARY:Drop-in bröllop
DESCRIPTION:Har du din partner drömt om ett slottsbröllop\,  men vill sli
 ppa allt ståhej kring att själva ansvara för arrangemanget. Då är dett
 a er chans! Anmäl intresse till info@salsta-slott.se Mer information om up
 plägget här.\nhttps://astraken.se/events/drop-in-brollop-2/
URL:https://astraken.se/events/drop-in-brollop-2/
END:VEVENT
END:VCALENDAR