BEGIN:VCALENDAR
VERSION:2.0
PRODID:-//eventon.com NONSGML v1.0//EN
CALSCALE:GREGORIAN
METHOD:PUBLISH
BEGIN:VEVENT
UID:69eb83c48b2be
DTSTAMP:20260424T145252Z
DTSTART:20250518T150000Z
DTEND:20250518T170000Z
LOCATION:
SUMMARY:MagikvÃ¤ll
DESCRIPTION:Magi pÃ¥ SalstaÂ med fantastiskaÂ Love Melander. Boka platsÂ hÃ
 ¤r.\nhttps://astraken.se/events/magikvall/
URL:https://astraken.se/events/magikvall/
END:VEVENT
END:VCALENDAR