BEGIN:VCALENDAR
VERSION:2.0
PRODID:-//eventon.com NONSGML v1.0//EN
CALSCALE:GREGORIAN
METHOD:PUBLISH
BEGIN:VEVENT
UID:69eb8374c0454
DTSTAMP:20260424T145132Z
DTSTART:20250517T050000Z
DTEND:20250517T070000Z
LOCATION:
SUMMARY:Gökotta
DESCRIPTION:Mats Wilhelm guidar bland försommarens fågelröster. Samling
  vid parkeringen norr om slottet kl.7. Efter gökottan serveras frukost i S
 lottskaféet. Boka plats här.\nhttps://astraken.se/events/gokotta-2/
URL:https://astraken.se/events/gokotta-2/
END:VEVENT
END:VCALENDAR