BEGIN:VCALENDAR
VERSION:2.0
PRODID:-//eventon.com NONSGML v1.0//EN
CALSCALE:GREGORIAN
METHOD:PUBLISH
BEGIN:VEVENT
UID:69eb9e0e4851c
DTSTAMP:20260424T164502Z
DTSTART:20250730T160000Z
DTEND:20250730T180000Z
LOCATION:
SUMMARY:Barockgodis
DESCRIPTION:Dan Laurin\,  en av världens ledande professionella blockflöj
 tister\,  och Anna Paradiso\,  internationellt erkänd cembalist\,  bjuder 
 på sött och salt\,  känt och okänt\,  ur barockens stora godisskål. Mu
 sik bland annat av J.S.Bach\,  Georg FriedrichHändel\,  Georg Philipp Tele
 mannoch Johan Helmich Roman. Boka biljett: https://kulturbiljetter.se/varuk
 org/7610/34930/barockgodis/\nhttps://astraken.se/events/barockgodis/
URL:https://astraken.se/events/barockgodis/
END:VEVENT
END:VCALENDAR