BEGIN:VCALENDAR
VERSION:2.0
PRODID:-//eventon.com NONSGML v1.0//EN
CALSCALE:GREGORIAN
METHOD:PUBLISH
BEGIN:VEVENT
UID:69eb88f9b6a45
DTSTAMP:20260424T151505Z
DTSTART:20250717T160000Z
DTEND:20250717T180000Z
LOCATION:
SUMMARY:Hyllning till Monica Zetterlund
DESCRIPTION:JazzsÃ¥ngerskan Christina Gustafsson och nÃ¥gra av Sveriges frÃ
 ¤msta jazzmusiker â€“ Stefan Gustafson\,  piano\,  Jan Adefelt\,  bas och B
 engt Stark\,  trummor â€“ tolkar den legendariska artisten Monica Zetterlun
 ds musikaliska vÃ¤rld. Boka biljett: https://kulturbiljetter.se/varukorg/76
 09/34929/hyllning-till-monica-zetterlund/\nhttps://astraken.se/events/hylln
 ing-till-monica-zetterlund/
URL:https://astraken.se/events/hyllning-till-monica-zetterlund/
END:VEVENT
END:VCALENDAR