BEGIN:VCALENDAR
VERSION:2.0
PRODID:-//eventon.com NONSGML v1.0//EN
CALSCALE:GREGORIAN
METHOD:PUBLISH
BEGIN:VEVENT
UID:69eb89177bc58
DTSTAMP:20260424T151535Z
DTSTART:20250709T160000Z
DTEND:20250709T180000Z
LOCATION:
SUMMARY:Möte med två stjärnsolister
DESCRIPTION:Två av Sveriges främsta solister &#8211; mezzosopranen Johann
 a Rudström och pianisten David Huang – möts och bjuder på ett smäktan
 de program med musik från förra sekelskiftet\,  då romantiken drog sina 
 sista suckar strax innan omvälvande händelser kom att förändra Europa o
 ch mänskligheten för gott. Musik av bl.a.Rachmaninov\,  Sibelius\,  Lili 
 Boulanger[..]\nhttps://astraken.se/events/mote-med-tva-stjarnsolister/
URL:https://astraken.se/events/mote-med-tva-stjarnsolister/
END:VEVENT
END:VCALENDAR