BEGIN:VCALENDAR
VERSION:2.0
PRODID:-//eventon.com NONSGML v1.0//EN
CALSCALE:GREGORIAN
METHOD:PUBLISH
BEGIN:VEVENT
UID:69ebabef04ecc
DTSTAMP:20260424T174415Z
DTSTART:20250525
DTEND:20250526
LOCATION:
SUMMARY:Slottsfruar
DESCRIPTION:Mors dag firande med Vernissage av utställningen Slottsfruar 
 Biljettpris 80kr. Boka biljett på info@salsta-slott.se kl.11 Utställninge
 n invigs genom att Hanna Bendz berättar om utställningen med efterföljan
 de musikprogram av Hanna Bendz\,  cello\,  Emma Bendz\,  sång och Niclas M
 almberg\,  piano. Utställningen kan sedan ses fram till kl.17. kl.14 Guida
 d rundvandring Pris 120kr/person. Boka[..]\nhttps://astraken.se/events/slot
 tsfruar/
URL:https://astraken.se/events/slottsfruar/
END:VEVENT
END:VCALENDAR