BEGIN:VCALENDAR
VERSION:2.0
PRODID:-//eventon.com NONSGML v1.0//EN
CALSCALE:GREGORIAN
METHOD:PUBLISH
BEGIN:VEVENT
UID:69eb86d24c686
DTSTAMP:20260424T150554Z
DTSTART:20250606
DTEND:20250607
LOCATION:
SUMMARY:Nationaldagsfirande
DESCRIPTION:kl.11 Friluftsgudstjänst. Regi Lena församling kl.12 National
 dagslunch Boka biljett här (pris inkluderar efterföljande guidad rundva
 ndring). kl.13 Guidad rundvandring Pris 120kr/person. Boka biljett på info
 @salsta-slott.se kl.16 Musik på Salsta slott\,  Visor i sommartid\,  ett 
 visprogram till luta. Puch Magnus Olsson tolkar Evert Taube. Biljettpris 2
 00kr. Boka biljett på info@salsta-slott.se\nhttps://astraken.se/events/nat
 ionaldagsfirande-2/
URL:https://astraken.se/events/nationaldagsfirande-2/
END:VEVENT
END:VCALENDAR