BEGIN:VCALENDAR
VERSION:2.0
PRODID:-//eventon.com NONSGML v1.0//EN
CALSCALE:GREGORIAN
METHOD:PUBLISH
BEGIN:VEVENT
UID:69eb83dfacfc1
DTSTAMP:20260424T145319Z
DTSTART:20250411T160000Z
DTEND:20250411T200000Z
LOCATION:
SUMMARY:Singeljakten
DESCRIPTION:Sveriges roligaste speed dating-event\,  dÃ¤r du inte bara har 
 chansen att finna en partner men ocksÃ¥ vinna ett slottsbrÃ¶llop\,  och des
 sutom kommer ha kul pÃ¥ vÃ¤gen i de utmaningar som radas upp pÃ¥ vÃ¤gen att
  lÃ¤ra kÃ¤nna den rÃ¤tte. Oavsett om du hittar nÃ¥gon eller inte utlovas nÃ
 ¥gra trevliga timmar[..]\nhttps://astraken.se/events/singeljakten/
URL:https://astraken.se/events/singeljakten/
END:VEVENT
END:VCALENDAR