BEGIN:VCALENDAR
VERSION:2.0
PRODID:-//eventon.com NONSGML v1.0//EN
CALSCALE:GREGORIAN
METHOD:PUBLISH
BEGIN:VEVENT
UID:69eb85d61e28f
DTSTAMP:20260424T150142Z
DTSTART:20250418
DTEND:20250419
LOCATION:
SUMMARY:Textil av Linda Lasson
DESCRIPTION:Textil av Linda Lasson 18 april – 25 maj Linda Lasson från K
 ramfors arbetar med broderi i svart sytråd på oväntade material som pres
 enning och armeringsduk. Hennes konst är ofta politisk och undersöker mä
 nniskans påverkan på naturen\,  särskilt i norra Sverige.\nhttps://astra
 ken.se/events/textil-av-linda-lasson/
URL:https://astraken.se/events/textil-av-linda-lasson/
END:VEVENT
END:VCALENDAR