BEGIN:VCALENDAR
VERSION:2.0
PRODID:-//eventon.com NONSGML v1.0//EN
CALSCALE:GREGORIAN
METHOD:PUBLISH
BEGIN:VEVENT
UID:69eb9cf500517
DTSTAMP:20260424T164021Z
DTSTART:20250217
DTEND:20250218
LOCATION:
SUMMARY:Sportlov på Gamla Uppsala Museum
DESCRIPTION:Årets tema är djuren i Gamla Uppsala. Varje dag berättar vi 
 om djur och livet på en gård under forntiden\,  skattjakt\,  djursafari m
 m. Testa på olika hanverk. Gratis för alla barn upp till 19 år. Kom och 
 lär dig mer om djuren som en gång har funnits i Gamla Uppsala.[..]\nhttps
 ://astraken.se/events/sportlov-pa-gamla-uppsala-museum/
URL:https://astraken.se/events/sportlov-pa-gamla-uppsala-museum/
END:VEVENT
END:VCALENDAR