BEGIN:VCALENDAR
VERSION:2.0
PRODID:-//eventon.com NONSGML v1.0//EN
CALSCALE:GREGORIAN
METHOD:PUBLISH
BEGIN:VEVENT
UID:69eb9ddb3b792
DTSTAMP:20260424T164411Z
DTSTART:20250222T120000Z
DTEND:20250223T150000Z
LOCATION:
SUMMARY:Helgvisning
DESCRIPTION:VÃ¤lkommen pÃ¥ visning lÃ¶rdagar och sÃ¶ndagar. FÃ¶lj med en av
  vÃ¥ra kunniga guider pÃ¥ en visning i utstÃ¤llningen. Du fÃ¥r lÃ¤ra dig om
  hur Gamla Uppsala sÃ¥g ut och fungerade under sin storhetstid. Guiden berÃ
 ¤ttar sjÃ¤lvklart om de stora kungshÃ¶garna\,  men ocksÃ¥ om var kungen bod
 de och var de mystiska[..]\nhttps://astraken.se/events/helgvisning/
URL:https://astraken.se/events/helgvisning/
END:VEVENT
END:VCALENDAR