BEGIN:VCALENDAR
VERSION:2.0
PRODID:-//eventon.com NONSGML v1.0//EN
CALSCALE:GREGORIAN
METHOD:PUBLISH
BEGIN:VEVENT
UID:69eb9e7cde17e
DTSTAMP:20260424T164652Z
DTSTART:20250320T173000Z
DTEND:20250320T200000Z
LOCATION:
SUMMARY:Skapa din egen vÃ¥rbukett â€“ kurs pÃ¥ Salsta Slott
DESCRIPTION:Bind din egen vÃ¥rbukett pÃ¥ Salsta Slott VÃ¤lkommen till en my
 sig och kreativ kvÃ¤ll pÃ¥ Salsta Slott\,  dÃ¤r vi lÃ¤r oss binda vackra vÃ
 ¥rbuketter under ledning av floristen Sandra Bergman frÃ¥n Centrumblommor i
  Storvreta. Skapa din egen vÃ¥rbukett â€“ kurs pÃ¥ Salsta Slott VÃ¤lkommen 
 till en inspirerande kvÃ¤ll pÃ¥ Salsta[..]\nhttps://astraken.se/events/skap
 a-din-egen-varbukett-kurs-pa-salsta-slott/
URL:https://astraken.se/events/skapa-din-egen-varbukett-kurs-pa-salsta-slott/
END:VEVENT
END:VCALENDAR