BEGIN:VCALENDAR
VERSION:2.0
PRODID:-//eventon.com NONSGML v1.0//EN
CALSCALE:GREGORIAN
METHOD:PUBLISH
BEGIN:VEVENT
UID:69eb9d2a169c5
DTSTAMP:20260424T164114Z
DTSTART:20250226T170000Z
DTEND:20250226T200000Z
LOCATION:
SUMMARY:Första fågelkursträffen
DESCRIPTION:Fågelkurs i vår! Anders kommer återigen att hålla en fågel
 kurs denna vår och ser fram emot att välkomna både nya och gamla deltaga
 re. Det handlar om att vara ute och lära sig och inspireras av våra fågl
 ar\,  samtidigt som vi gör trivsamma utflykter i naturen\,  med obligatori
 skt fika förstås. Första[..]\nhttps://astraken.se/events/forsta-fagelkur
 straffen-2/
URL:https://astraken.se/events/forsta-fagelkurstraffen-2/
END:VEVENT
END:VCALENDAR